1.50000000000000
0.00000000000000
0.00000000000000
-1.50000000000000
478056.06139006809000
184327.57193516754000
