1.50000000000000
0.00000000000000
0.00000000000000
-1.50000000000000
456719.79610880400000
184328.97839067038000
