1.50000000000000
0.00000000000000
0.00000000000000
-1.50000000000000
435383.64861372171000
184327.36838661693000
