1.50000000000000
0.00000000000000
0.00000000000000
-1.50000000000000
414047.52872118639000
184328.72578415833000
