1.50000000000000
0.00000000000000
0.00000000000000
-1.50000000000000
392711.53647036594000
184328.66404278111000
