1.50000000000000
0.00000000000000
0.00000000000000
-1.50000000000000
371375.58722695324000
184326.30658594146000
