1.50000000000000
0.00000000000000
0.00000000000000
-1.50000000000000
179350.57452656224000
184326.24921550974000
