1.50000000000000
0.00000000000000
0.00000000000000
-1.50000000000000
350039.77140710648000
200176.59020233899000
