1.50000000000000
0.00000000000000
0.00000000000000
-1.50000000000000
328703.80753313145000
200177.82794727664000
