1.50000000000000
0.00000000000000
0.00000000000000
-1.50000000000000
222023.59648524399000
200175.51243783161000
