1.50000000000000
0.00000000000000
0.00000000000000
-1.50000000000000
200687.31934030834000
200176.15047661681000
