1.50000000000000
0.00000000000000
0.00000000000000
-1.50000000000000
499392.33700831037000
200179.18613944855000
