1.50000000000000
0.00000000000000
0.00000000000000
-1.50000000000000
478055.90082775743000
200177.64041192178000
