1.50000000000000
0.00000000000000
0.00000000000000
-1.50000000000000
456719.68471870793000
200178.97791963629000
