1.50000000000000
0.00000000000000
0.00000000000000
-1.50000000000000
435383.48778600665000
200178.68053135276000
