1.50000000000000
0.00000000000000
0.00000000000000
-1.50000000000000
414047.34607950051000
200178.51517165639000
