1.50000000000000
0.00000000000000
0.00000000000000
-1.50000000000000
392711.44747711334000
200178.44906163309000
