1.50000000000000
0.00000000000000
0.00000000000000
-1.50000000000000
371375.61658932117000
200175.29193577822000
