1.50000000000000
0.00000000000000
0.00000000000000
-1.50000000000000
179350.67293976995000
200175.38015412539000
