1.50000000000000
0.00000000000000
0.00000000000000
-1.50000000000000
350039.60078612104000
216027.72692151088000
