1.50000000000000
0.00000000000000
0.00000000000000
-1.50000000000000
328703.68602532591000
216026.01240813360000
