1.50000000000000
0.00000000000000
0.00000000000000
-1.50000000000000
307367.68078764994000
216027.24645080790000
