1.50000000000000
0.00000000000000
0.00000000000000
-1.50000000000000
264695.73371337616000
216026.77792035788000
