1.50000000000000
0.00000000000000
0.00000000000000
-1.50000000000000
243359.69096403301000
216026.52015904896000
