1.50000000000000
0.00000000000000
0.00000000000000
-1.50000000000000
222023.49873008125000
216024.83252931759000
