1.50000000000000
0.00000000000000
0.00000000000000
-1.50000000000000
200687.19419802682000
216024.68140158057000
