1.50000000000000
0.00000000000000
0.00000000000000
-1.50000000000000
499392.26799340977000
216029.18698384613000
