1.50000000000000
0.00000000000000
0.00000000000000
-1.50000000000000
478055.86037103756000
216029.19871821534000
