1.50000000000000
0.00000000000000
0.00000000000000
-1.50000000000000
456719.60907950113000
216027.42469685152000
