1.50000000000000
0.00000000000000
0.00000000000000
-1.50000000000000
435383.34311901691000
216027.06584432721000
