1.50000000000000
0.00000000000000
0.00000000000000
-1.50000000000000
414047.17714810040000
216026.92106627580000
