1.50000000000000
0.00000000000000
0.00000000000000
-1.50000000000000
392711.28536649991000
216026.57161463797000
