1.50000000000000
0.00000000000000
0.00000000000000
-1.50000000000000
371375.55077797885000
216026.51343411300000
