1.50000000000000
0.00000000000000
0.00000000000000
-1.50000000000000
179350.89907230748000
216025.94864123035000
