1.50000000000000
0.00000000000000
0.00000000000000
-1.50000000000000
350039.41750769556000
231877.30298590474000
