1.50000000000000
0.00000000000000
0.00000000000000
-1.50000000000000
328703.56634389103000
231874.07319214754000
