1.50000000000000
0.00000000000000
0.00000000000000
-1.50000000000000
307367.57476153044000
231876.81635938771000
