1.50000000000000
0.00000000000000
0.00000000000000
-1.50000000000000
286031.40536121669000
231876.48689529952000
