1.50000000000000
0.00000000000000
0.00000000000000
-1.50000000000000
264695.55542877445000
231876.26480601728000
