1.50000000000000
0.00000000000000
0.00000000000000
-1.50000000000000
243359.70521515375000
231873.04471272789000
