1.50000000000000
0.00000000000000
0.00000000000000
-1.50000000000000
222023.64635646841000
231874.29173447285000
