1.50000000000000
0.00000000000000
0.00000000000000
-1.50000000000000
200687.45258449818000
231873.80586700886000
