1.50000000000000
0.00000000000000
0.00000000000000
-1.50000000000000
499392.20911951672000
231879.14228319470000
