1.50000000000000
0.00000000000000
0.00000000000000
-1.50000000000000
478055.82861666498000
231878.94882848021000
