1.50000000000000
0.00000000000000
0.00000000000000
-1.50000000000000
456719.58924910339000
231877.05090562347000
