1.50000000000000
0.00000000000000
0.00000000000000
-1.50000000000000
435383.38299451390000
231876.71635882277000
