1.50000000000000
0.00000000000000
0.00000000000000
-1.50000000000000
414047.19962824328000
231878.01446891855000
