1.50000000000000
0.00000000000000
0.00000000000000
-1.50000000000000
392711.23938235966000
231877.88500173576000
