1.50000000000000
0.00000000000000
0.00000000000000
-1.50000000000000
371375.38765081589000
231877.63760692440000
